BEGIN:VCALENDAR
VERSION:2.0
PRODID:-//REDE NACIONAL DE MULHERES NA NANOCIÊNCIA - ECPv6.15.11//NONSGML v1.0//EN
CALSCALE:GREGORIAN
METHOD:PUBLISH
X-WR-CALNAME:REDE NACIONAL DE MULHERES NA NANOCIÊNCIA
X-ORIGINAL-URL:https://redemulheresnano.ufn.edu.br
X-WR-CALDESC:Eventos para REDE NACIONAL DE MULHERES NA NANOCIÊNCIA
REFRESH-INTERVAL;VALUE=DURATION:PT1H
X-Robots-Tag:noindex
X-PUBLISHED-TTL:PT1H
BEGIN:VTIMEZONE
TZID:America/Sao_Paulo
BEGIN:STANDARD
TZOFFSETFROM:-0300
TZOFFSETTO:-0300
TZNAME:-03
DTSTART:20250101T000000
END:STANDARD
END:VTIMEZONE
BEGIN:VEVENT
DTSTART;TZID=America/Sao_Paulo:20260530T120000
DTEND;TZID=America/Sao_Paulo:20260530T160000
DTSTAMP:20260421T132936
CREATED:20260327T023721Z
LAST-MODIFIED:20260327T023917Z
UID:2504-1780142400-1780156800@redemulheresnano.ufn.edu.br
SUMMARY:ICE de portas abertas
DESCRIPTION:
URL:https://redemulheresnano.ufn.edu.br/?tribe_events=ice-de-portas-abertas-2
LOCATION:Instituto de Ciências Exatas – UFJF\, Rua José Lourenço Kelmer\, s/n - São Pedro\, Juíz de Fora\, Minas Gerais\, 36036900\, Brazil
CATEGORIES:Manacá-da-Serra
END:VEVENT
BEGIN:VEVENT
DTSTART;VALUE=DATE:20260722
DTEND;VALUE=DATE:20260725
DTSTAMP:20260421T132936
CREATED:20260327T031814Z
LAST-MODIFIED:20260327T032040Z
UID:2547-1784678400-1784937599@redemulheresnano.ufn.edu.br
SUMMARY:II Simpósio Nacional de Mulheres na Nanociência
DESCRIPTION:O 2º Simpósio Nacional de Mulheres na Nanociência será realizado entre os dias 22 e 24 de julho de 2026\, com o tema “Mulheres na Nanociência: Gerações e Saberes que Transformam o Mundo”. Este evento dá continuidade à primeira edição\, consolidando-se como um importante espaço de integração\, formação e visibilidade de mulheres nas áreas de Nanociência e Nanotecnologia (N&N) e STEAM (Ciência\, Tecnologia\, Engenharia\, Artes e Matemática). \nA iniciativa é promovida pela Rede Nacional de Mulheres na Nanociência: Conhecimento e Inovação para Cientistas e Profissionais do Futuro\, projeto aprovado na Chamada CNPq nº 31/2023\, que tem como propósito estimular e apoiar a participação ativa de mulheres\, especialmente aquelas de diferentes origens étnico-raciais\, nas áreas de ciência\, tecnologia e inovação. \nO evento abrangerá atividades voltadas a estudantes da pós-graduação\, graduação e do ensino básico\, além de professoras da rede pública\, promovendo a democratização do acesso ao conhecimento científico. Estão previstas oficinas\, minicursos\, palestras e painéis temáticos que abordarão desde fundamentos da nanociência até discussões sobre equidade de gênero na ciência e na inovação tecnológica. \nPara as estudantes de graduação e pós-graduação\, o simpósio proporcionará interação direta com pesquisadoras de destaque nacional e internacional\, favorecendo a formação científica\, o networking e a inspiração por meio de relatos de trajetórias de sucesso. Já as atividades destinadas ao ensino básico buscarão despertar o interesse precoce pelas áreas STEAM\, especialmente entre meninas\, contribuindo para a construção de uma cultura científica mais diversa\, inclusiva e transformadora. Assim\, o evento reafirma seu papel estratégico na promoção da diversidade e da equidade de gênero\, fortalecendo o protagonismo feminino em áreas de grande relevância tecnológica e estimulando a formação de novas gerações de pesquisadoras comprometidas com o desenvolvimento sustentável e a inovação social. \nFaça sua inscrição clicando aqui.
URL:https://redemulheresnano.ufn.edu.br/?tribe_events=ii-simposio-nacional-de-mulheres-na-nanociencia
LOCATION:Universidade Tiradentes – Unit\, R. Lagarto\, 253\, Aracaju\, Sergipe\, 49010390\, Brazil
CATEGORIES:Rede Nacional
END:VEVENT
END:VCALENDAR